BEGIN:VCALENDAR
VERSION:2.0
PRODID:-//NaturResort ÄNGLAGÅRD - ECPv6.2.4//NONSGML v1.0//EN
CALSCALE:GREGORIAN
METHOD:PUBLISH
X-ORIGINAL-URL:https://aenglagard.com
X-WR-CALDESC:Veranstaltungen für NaturResort ÄNGLAGÅRD
REFRESH-INTERVAL;VALUE=DURATION:PT1H
X-Robots-Tag:noindex
X-PUBLISHED-TTL:PT1H
BEGIN:VTIMEZONE
TZID:UTC
BEGIN:STANDARD
TZOFFSETFROM:+0000
TZOFFSETTO:+0000
TZNAME:UTC
DTSTART:20240101T000000
END:STANDARD
END:VTIMEZONE
BEGIN:VEVENT
DTSTART;VALUE=DATE:20240129
DTEND;VALUE=DATE:20240206
DTSTAMP:20260421T192747
CREATED:20231106T105939Z
LAST-MODIFIED:20231115T083935Z
UID:3370-1706486400-1707177599@aenglagard.com
SUMMARY:Nordlichter\, Schneeabenteuer und samische Kultur erleben
DESCRIPTION:Winterzeit im NaturResort Änglagård in Schwedisch Lappland \n29. Januar bis 5. Februar 2024 (Verlängerung möglich) \nJedes Jahr findet in der schwedischen Kulturhauptstadt der Samen in Jokkmokk der Wintermarkt statt. Menschen aus der ganzen Welt kommen\, um an der Tradition des letzten indigenen Volkes Europas teil zu haben. Kunst\, Handwerk\, die Tradition des Joikkens und alles rund um das Rentier wird hier auf diesem großen traditionellen Markt ausgestellt. \nDer gemeinsame Besuch des Marktes ist ein unvergessliches Erlebnis und zentraler Punkt unseres Winterangebots. \nIn der Zeit drum herum wollen wir euch eine wunderschöne erholsame und erlebnisreiche Zeit in der nordischen Winterlandschaft anbieten. Winter in Gargnäs bedeutet zugefrorene Seen und Flüsse\, große Mengen an Schnee\, tiefe Temperaturen und bizarre Kunstwerke aus Eis und Schnee – über allem der wunderbare Zauber der tanzenden Nordlichter. \nGemeinsam oder auf eigene Faust kannst du wunderschöne Touren per Schneeschuh oder Skiern machen\, in einer Hütte unterwegs am Lagerfeuer Kaffee kochen und abends gemütlich in unserer Lounge\, in deiner Stuga / Zimmer oder in der Sauna ausspannen.  \nUnsere Nachbarn bieten Hundeschlitten- oder Schneemobiltouren an\, die auf Wunsch zusätzlich gebucht werden können. \nGroßzügige Zimmer\, Aufenthaltsräume\, gemütliche Stugas und Rückzugsräume\, Teeküche und große Küche machen für eine kleine Gruppe einen guten Mix aus Begegnung und Rückzug möglich. \nZu unserem Angebot gehören:\n• Übernachtung in Zimmer oder Stuga (kleines Haus) mit Frühstück\n• Willkommens-Überraschung\n• Transfer zum Wintermarkt in Jokkmokk\n• Nutzung der Sauna\n• Bild-Vortrag über die samische Lebensweise und ihren Lebensraum\n• Geführte Exkursion zum Vindelälven – einem der letzten wild fließenden Ströme Europas\n• Winter-Grillevent (je nach Wetter Alternative)\n• Menu zum Thema Rentier\n• Angebote zu Stille- und Entspannungsmethoden\n• Anreise individuell – Bitte fragt uns nach den besten Verbindungen \nPreis ab 9900 SEK / ca. 830 EUR pro Person\n(Familien erhalten Ermäßigungen) \nBitte fragt uns für eure Situation und euren gewählten Zeitraum\nper Mail oder Telefon persönlich an. Wir rufen gerne zurück. \nE-Mail: booking@bettina-homeyer.de\nPhone: +46 (0)72 74 55 332
URL:https://aenglagard.com/event/nordlichter-schneeabenteuer-und-samische-kultur-erleben/
CATEGORIES:Übernachtungsangebot
END:VEVENT
END:VCALENDAR